BEGIN:VCALENDAR
VERSION:2.0
PRODID:-//Area 27 - ECPv6.15.20//NONSGML v1.0//EN
CALSCALE:GREGORIAN
METHOD:PUBLISH
X-WR-CALNAME:Area 27
X-ORIGINAL-URL:https://aa-louisiana.org
X-WR-CALDESC:Events for Area 27
REFRESH-INTERVAL;VALUE=DURATION:PT1H
X-Robots-Tag:noindex
X-PUBLISHED-TTL:PT1H
BEGIN:VTIMEZONE
TZID:America/Chicago
BEGIN:DAYLIGHT
TZOFFSETFROM:-0600
TZOFFSETTO:-0500
TZNAME:CDT
DTSTART:20250309T080000
END:DAYLIGHT
BEGIN:STANDARD
TZOFFSETFROM:-0500
TZOFFSETTO:-0600
TZNAME:CST
DTSTART:20251102T070000
END:STANDARD
BEGIN:DAYLIGHT
TZOFFSETFROM:-0600
TZOFFSETTO:-0500
TZNAME:CDT
DTSTART:20260308T080000
END:DAYLIGHT
BEGIN:STANDARD
TZOFFSETFROM:-0500
TZOFFSETTO:-0600
TZNAME:CST
DTSTART:20261101T070000
END:STANDARD
BEGIN:DAYLIGHT
TZOFFSETFROM:-0600
TZOFFSETTO:-0500
TZNAME:CDT
DTSTART:20270314T080000
END:DAYLIGHT
BEGIN:STANDARD
TZOFFSETFROM:-0500
TZOFFSETTO:-0600
TZNAME:CST
DTSTART:20271107T070000
END:STANDARD
END:VTIMEZONE
BEGIN:VEVENT
DTSTART;TZID=America/Chicago:20260123T190000
DTEND;TZID=America/Chicago:20260126T170000
DTSTAMP:20260420T053206
CREATED:20260123T183713Z
LAST-MODIFIED:20260123T183713Z
UID:5215-1769194800-1769446800@aa-louisiana.org
SUMMARY:Winter Storm Emergency Meetings for Area 27
DESCRIPTION:As part of the Area 27 Accessibilities Committee’s commitment to ensuring access to meetings during weather emergencies that impact access to in-person meetings\, we will be hosting meetings on the Area 27 Zoom account during the winter storm beginning Friday\, January 23\, 2026. \nVISIT THE AA-LOUISIANA.ORG EVENTS TAB TO VIEW EMERGENCY MEETING TIMES BEGINNING FRI. JAN 23\, 2026 \nView the link (tinyurl.com/Area27WS26) or in the website section below for our schedule of home group-hosted meetings \nZOOM: 846-0978-5541\nPASSCODE: AAArch62
URL:https://aa-louisiana.org/event/winter-storm-emergency-meetings-for-area-27/
LOCATION:Zoom
ATTACH;FMTTYPE=image/png:https://aa-louisiana.org/wp-content/uploads/2026/01/A-27-Emergency-Weather-Meeting-Flyer-Jan-2026.png
END:VEVENT
END:VCALENDAR