BEGIN:VCALENDAR
VERSION:2.0
PRODID:-//Area 27 - ECPv6.15.20//NONSGML v1.0//EN
CALSCALE:GREGORIAN
METHOD:PUBLISH
X-ORIGINAL-URL:https://aa-louisiana.org
X-WR-CALDESC:Events for Area 27
REFRESH-INTERVAL;VALUE=DURATION:PT1H
X-Robots-Tag:noindex
X-PUBLISHED-TTL:PT1H
BEGIN:VTIMEZONE
TZID:America/Chicago
BEGIN:DAYLIGHT
TZOFFSETFROM:-0600
TZOFFSETTO:-0500
TZNAME:CDT
DTSTART:20240310T080000
END:DAYLIGHT
BEGIN:STANDARD
TZOFFSETFROM:-0500
TZOFFSETTO:-0600
TZNAME:CST
DTSTART:20241103T070000
END:STANDARD
BEGIN:DAYLIGHT
TZOFFSETFROM:-0600
TZOFFSETTO:-0500
TZNAME:CDT
DTSTART:20250309T080000
END:DAYLIGHT
BEGIN:STANDARD
TZOFFSETFROM:-0500
TZOFFSETTO:-0600
TZNAME:CST
DTSTART:20251102T070000
END:STANDARD
BEGIN:DAYLIGHT
TZOFFSETFROM:-0600
TZOFFSETTO:-0500
TZNAME:CDT
DTSTART:20260308T080000
END:DAYLIGHT
BEGIN:STANDARD
TZOFFSETFROM:-0500
TZOFFSETTO:-0600
TZNAME:CST
DTSTART:20261101T070000
END:STANDARD
END:VTIMEZONE
BEGIN:VEVENT
DTSTART;TZID=America/Chicago:20250406T140000
DTEND;TZID=America/Chicago:20250406T150000
DTSTAMP:20260421T044753
CREATED:20250129T043827Z
LAST-MODIFIED:20250129T043827Z
UID:3202-1743948000-1743951600@aa-louisiana.org
SUMMARY:Area 27 Accessibilities April Meeting
DESCRIPTION:Area 27’s Accessibilities Committee meets monthly on the first Sunday of the month at 2:00 PM via Zoom. Various district-level Accessibilities committees have also elected to combine their meetings with Area 27. \nWe also hold a breakout room for members of Online District 25 to meet at this time.\nZoom ID: 373 884 7070\nPassword: Access27
URL:https://aa-louisiana.org/event/area-27-accessibilities-april-meeting/
LOCATION:Zoom
ATTACH;FMTTYPE=image/png:https://aa-louisiana.org/wp-content/uploads/2025/01/Access-Logo-with-Zoom-Info.png
END:VEVENT
END:VCALENDAR